BEGIN:VCALENDAR
VERSION:2.0
PRODID:-//Basin Buzz//Events//EN
CALSCALE:GREGORIAN
METHOD:PUBLISH
BEGIN:VEVENT
UID:monthly-veterans-meetup-2026-05-13@basinbuzz.com
SUMMARY:Monthly Veterans Meetup
DTSTART:20260513T100000
DTEND:20260513T120000
LOCATION:Klamath County Library\, 126 South Third Street\, Klamath Falls\, 
 OR 97601
DESCRIPTION:View on Basin Buzz: https://basinbuzz.com/events/monthly-vetera
 ns-meetup-2026-05-13\n\nVeterans and their loved ones are invited to gathe
 r at the downtown Klamath County Library on the second Wednesday of the mo
 nth from 10 am to noon for the Monthly Veterans Meetup.\nDiscuss the uniqu
 e needs of veterans and their families\, and get connected with agencies w
 ho can help you access the benefits you've earned. This program is offered
  in partnership with the US Department of Veterans Affairs.\nFor more info
 rmation\, call 541-882-8894.\n\nMore info: https://klamathlibrary.org/libr
 ary-events/monthly-veterans-meetup-0513261000
URL:https://basinbuzz.com/events/monthly-veterans-meetup-2026-05-13
END:VEVENT
END:VCALENDAR
