BEGIN:VCALENDAR
VERSION:2.0
PRODID:-//Basin Buzz//Events//EN
CALSCALE:GREGORIAN
METHOD:PUBLISH
BEGIN:VEVENT
UID:mother-s-day-brunch-at-running-y-resort-2026-05-10@basinbuzz.com
SUMMARY:Mother's Day Brunch at Running Y Resort
DTSTART:20260510T080000
DTEND:20260510T140000
LOCATION:Running Y Ranch Resort
DESCRIPTION:View on Basin Buzz: https://basinbuzz.com/events/mother-s-day-b
 runch-at-running-y-resort-2026-05-10\n\nCelebrate Mother's Day with a spec
 ial brunch at Running Y Resort. Choose between regular menu dining at the 
 Ruddy Duck or a beautifully curated family-style dining experience in The 
 Woodlands Ballroom for larger gatherings.\nReservations Required: Book in 
 advance to ensure availability. For brunch reservations of eight or fewer\
 , contact the Ruddy Duck at (541) 850-5582. For larger parties and family-
 style dining\, email jennifer@runningy.com.\nBrunch is served from 8:00 AM
  to 2:00 PM.\n\nMore info: https://business.klamath.org/events/Details/mot
 her-s-day-brunch-at-running-y-resort-1713184?sourceTypeId=Website
URL:https://basinbuzz.com/events/mother-s-day-brunch-at-running-y-resort-20
 26-05-10
END:VEVENT
END:VCALENDAR
