BEGIN:VCALENDAR
VERSION:2.0
PRODID:-//Basin Buzz//Events//EN
CALSCALE:GREGORIAN
METHOD:PUBLISH
BEGIN:VEVENT
UID:mother-s-day-brunch-at-the-ruddy-duck-2026-05-10@basinbuzz.com
SUMMARY:Mother's Day Brunch at the Ruddy Duck
DTSTART:20260510T070000
DTEND:20260510T140000
LOCATION:Running Y Ranch Resort\, 5500 Running Y Rd\, Klamath Falls\, OR 97
 601
DESCRIPTION:View on Basin Buzz: https://basinbuzz.com/events/mother-s-day-b
 runch-at-the-ruddy-duck-2026-05-10\n\nTreat Mom to a special à la carte br
 unch at the Ruddy Duck\, featuring a Steak & Eggs special and a full menu 
 of brunch favorites — from Chicken & Waffles to the Crater Lake Burger.\nR
 eservations are required\; groups of 8 or less only. Call 541-850-5582 to 
 book.\n\nMore info: https://runningy.com/wp-content/uploads/2026/04/Ruddy-
 Duck-Mothers-Day-Menu-26.jpg
URL:https://basinbuzz.com/events/mother-s-day-brunch-at-the-ruddy-duck-2026
 -05-10
END:VEVENT
END:VCALENDAR
