BEGIN:VCALENDAR
VERSION:2.0
PRODID:-//Basin Buzz//Events//EN
CALSCALE:GREGORIAN
METHOD:PUBLISH
BEGIN:VEVENT
UID:mother-s-day-family-style-brunch-at-woodlands-ballroom-2026-05-10@basin
 buzz.com
SUMMARY:Mother's Day Family-Style Brunch at Woodlands Ballroom
DTSTART:20260510T070000
DTEND:20260510T140000
LOCATION:Running Y Ranch Resort\, 5500 Running Y Rd\, Klamath Falls\, OR 97
 601
DESCRIPTION:View on Basin Buzz: https://basinbuzz.com/events/mother-s-day-f
 amily-style-brunch-at-woodlands-ballroom-2026-05-10\n\nCelebrate Mother's 
 Day with family-style dining at the Woodlands Ballroom. Platters of Belgiu
 m waffles\, grilled tri-tip\, cheesecake with lemon curd\, and more are br
 ought to your table so everyone gets a taste of everything.\nReservations 
 close May 1. Call 541-850-5582 to book.\n\nMore info: https://runningy.com
URL:https://basinbuzz.com/events/mother-s-day-family-style-brunch-at-woodla
 nds-ballroom-2026-05-10
END:VEVENT
END:VCALENDAR
