BEGIN:VCALENDAR
VERSION:2.0
PRODID:-//Basin Buzz//Events//EN
CALSCALE:GREGORIAN
METHOD:PUBLISH
BEGIN:VEVENT
UID:mother-s-day-touring-event-at-crystal-terrace-2026-05-04@basinbuzz.com
SUMMARY:Mother's Day Touring Event at Crystal Terrace
DTSTART:20260504T090000
DTEND:20260508T163000
LOCATION:Crystal Terrace Senior Living\, 1000 Town Center Drive\, Klamath F
 alls\, OR 97601
DESCRIPTION:View on Basin Buzz: https://basinbuzz.com/events/mother-s-day-t
 ouring-event-at-crystal-terrace-2026-05-04\n\nTour Crystal Terrace Senior 
 Living during the week of May 4–8 and receive a complimentary Mother's Day
  gift basket. Call 541-885-7250 to schedule your tour.\n\nMore info: https
 ://business.klamath.org/events/Details/mothers-day-touring-event-crystal-t
 errace-1714530?sourceTypeId=Website
URL:https://basinbuzz.com/events/mother-s-day-touring-event-at-crystal-terr
 ace-2026-05-04
END:VEVENT
END:VCALENDAR
