BEGIN:VCALENDAR
VERSION:2.0
PRODID:-//Basin Buzz//Events//EN
CALSCALE:GREGORIAN
METHOD:PUBLISH
BEGIN:VEVENT
UID:oregon-ballet-theatre-2026-05-16@basinbuzz.com
SUMMARY:Oregon Ballet Theatre
DTSTART:20260516T193000
DTEND:20260517T193000
LOCATION:Ross Ragland Theater\, 218 North 7th Street\, Klamath Falls\, OR 9
 7601
DESCRIPTION:View on Basin Buzz: https://basinbuzz.com/events/oregon-ballet-
 theatre-2026-05-16\n\nOregon Ballet Theatre brings world-class classical a
 nd contemporary ballet to the Ross Ragland stage\, featuring acclaimed dan
 cers and performance excellence from the state's largest professional ball
 et company.\nPerformance Schedule:\nSaturday\, May 16 at 7:30 PM\nSunday\,
  May 17 at 2:00 PM\nBox Office Hours: Tuesday–Wednesday\, 2 PM–6 PM\; open
  two hours prior to ticketed events. Online sales available anytime.\nCont
 act: 541-884-5483 (Box Office) | 541-887-8630 (Main Office)\n\nMore info: 
 https://ragland.org/event/oregon-ballet-2/
URL:https://basinbuzz.com/events/oregon-ballet-theatre-2026-05-16
END:VEVENT
END:VCALENDAR
