BEGIN:VCALENDAR
VERSION:2.0
PRODID:-//Basin Buzz//Events//EN
CALSCALE:GREGORIAN
METHOD:PUBLISH
BEGIN:VEVENT
UID:ribbon-cutting-for-honey-ivy-collective-2026-05-08@basinbuzz.com
SUMMARY:Ribbon Cutting for Honey & Ivy Collective
DTSTART:20260508T090000
DTEND:20260508T090000
LOCATION:Honey & Ivy Collective\, 1925 Austin Street\, Klamath Falls\, OR 9
 7603
DESCRIPTION:View on Basin Buzz: https://basinbuzz.com/events/ribbon-cutting
 -for-honey-ivy-collective-2026-05-08\n\nCelebrate the opening of Honey & I
 vy Collective with a ribbon cutting ceremony at 9:00 AM. After the ribbon 
 cutting\, explore their new store.\n\nMore info: https://business.klamath.
 org/events/Details/ribbon-cutting-for-honey-ivy-collective-1714532?sourceT
 ypeId=Website
URL:https://basinbuzz.com/events/ribbon-cutting-for-honey-ivy-collective-20
 26-05-08
END:VEVENT
END:VCALENDAR
