BEGIN:VCALENDAR
VERSION:2.0
PRODID:-//Basin Buzz//Events//EN
CALSCALE:GREGORIAN
METHOD:PUBLISH
BEGIN:VEVENT
UID:sip-sow-grow-a-professional-networking-event-2026-04-16@basinbuzz.com
SUMMARY:Sip\, Sow & Grow: A Professional Networking Event
DTSTART:20260416T160000
DTEND:20260416T180000
LOCATION:Pelican Pointe Assisted Living\, 615 Washburn Way\, Klamath Falls\
 , OR 97603
DESCRIPTION:View on Basin Buzz: https://basinbuzz.com/events/sip-sow-grow-a
 -professional-networking-event-2026-04-16\n\nA professional networking eve
 nt hosted at Pelican Pointe Assisted Living. Connect with local business p
 rofessionals and community members in a casual setting.\n\nMore info: http
 s://business.klamath.org/events/Details/sip-sow-grow-a-professional-networ
 king-event-1708591?sourceTypeId=Website
URL:https://basinbuzz.com/events/sip-sow-grow-a-professional-networking-eve
 nt-2026-04-16
END:VEVENT
END:VCALENDAR
