BEGIN:VCALENDAR
VERSION:2.0
PRODID:-//Basin Buzz//Events//EN
CALSCALE:GREGORIAN
METHOD:PUBLISH
BEGIN:VEVENT
UID:teen-adult-ukulele-club-2026-05-12@basinbuzz.com
SUMMARY:Teen & Adult Ukulele Club
DTSTART:20260512T173000
DTEND:20260512T173000
LOCATION:Klamath County Library\, 126 South Third Street\, Klamath Falls\, 
 OR 97601
DESCRIPTION:View on Basin Buzz: https://basinbuzz.com/events/teen-adult-uku
 lele-club-2026-05-12\n\nJoin the Ukulele Club on the second Tuesday of the
  month for a fun\, welcoming gathering of strummers at all levels. Beginne
 r lessons start at 5:30 PM\, with a general jam session for all skill leve
 ls beginning at 6 PM.\nA song leader guides the casual jam session\, with 
 chords and lyrics displayed on a big screen so you can follow along—no tex
 tbooks required. Whether you're a total beginner or a seasoned uke enthusi
 ast\, you're invited to make music with us.\nWhat to bring: Your own ukule
 le if you have one. If you don't have an instrument\, 3 to 5 ukuleles are 
 available to borrow on a first-come\, first-served basis. Newcomers and be
 ginners are encouraged to arrive on time.\nRegistration: No registration r
 equired\, but you can sign up to receive song sheets\, chords\, and tips a
 head of time. For more information\, call 541-882-8894.\n\nMore info: http
 s://klamathlibrary.org/library-events/teen-adult-ukulele-club-0512261730
URL:https://basinbuzz.com/events/teen-adult-ukulele-club-2026-05-12
END:VEVENT
END:VCALENDAR
