BEGIN:VCALENDAR
VERSION:2.0
PRODID:-//Basin Buzz//Events//EN
CALSCALE:GREGORIAN
METHOD:PUBLISH
BEGIN:VEVENT
UID:teen-board-game-night-2026-05-07@basinbuzz.com
SUMMARY:Teen Board Game Night
DTSTART:20260507T170000
DTEND:20260507T170000
LOCATION:Klamath County Library\, 126 South Third Street\, Klamath Falls\, 
 OR 97601
DESCRIPTION:View on Basin Buzz: https://basinbuzz.com/events/teen-board-gam
 e-night-2026-05-07\n\nTeens are invited to play with the library's selecti
 on of games or bring their favorite from home to share. A casual\, social 
 evening for teen gaming enthusiasts.\n\nMore info: https://klamathlibrary.
 org/library-events/teen-board-game-night-0507261700
URL:https://basinbuzz.com/events/teen-board-game-night-2026-05-07
END:VEVENT
END:VCALENDAR
