BEGIN:VCALENDAR
VERSION:2.0
PRODID:-//Basin Buzz//Events//EN
CALSCALE:GREGORIAN
METHOD:PUBLISH
BEGIN:VEVENT
UID:teen-dungeons-dragons-one-shot-adventure-2026-05-10@basinbuzz.com
SUMMARY:Teen Dungeons & Dragons One-Shot Adventure
DTSTART:20260510T140000
DTEND:20260510T160000
LOCATION:Klamath County Library\, 126 South Third Street\, Klamath Falls\, 
 OR 97601
DESCRIPTION:View on Basin Buzz: https://basinbuzz.com/events/teen-dungeons-
 dragons-one-shot-adventure-2026-05-10\n\nLearn to play Dungeons & Dragons 
 with a fun one-session adventure! This event takes place every other Sunda
 y from 2 pm to 4 pm.\nAge: Open to kids 12–18 years old. No sign-up necess
 ary.\nCharacter Requirements: If bringing your own character\, it must be 
 level three.\nLong-term Campaign: Interested in joining a long-term campai
 gn? Contact the library to sign up as a player or dungeon master.\nContact
 : Call 541-882-8894 or email Jacob at jbalcom@klamathlibrary.org for more 
 information.\n\nMore info: https://klamathlibrary.org/library-events/teen-
 dungeons-dragons-one-shot-adventure-0510261400
URL:https://basinbuzz.com/events/teen-dungeons-dragons-one-shot-adventure-2
 026-05-10
END:VEVENT
END:VCALENDAR
