BEGIN:VCALENDAR
VERSION:2.0
PRODID:-//Basin Buzz//Events//EN
CALSCALE:GREGORIAN
METHOD:PUBLISH
BEGIN:VEVENT
UID:teen-dungeons-dragons-one-shot-adventure-2026-05-24@basinbuzz.com
SUMMARY:Teen Dungeons & Dragons One-Shot Adventure
DTSTART:20260524T140000
DTEND:20260524T160000
LOCATION:Klamath County Library\, 126 South Third Street\, Klamath Falls\, 
 OR 97601
DESCRIPTION:View on Basin Buzz: https://basinbuzz.com/events/teen-dungeons-
 dragons-one-shot-adventure-2026-05-24\n\nLearn to play Dungeons & Dragons 
 with a fun one-session adventure designed for teens. This recurring event 
 takes place every other Sunday from 2 pm to 4 pm.\nAge range: 12–18 years 
 old. No sign-up necessary — just drop in!\nIf you're bringing your own cha
 racter\, it must be level three. Interested in joining a long-term campaig
 n? Contact the library to sign up as a player or dungeon master.\nQuestion
 s? Call 541-882-8894 or email Jacob at jbalcom@klamathlibrary.org.\n\nMore
  info: https://klamathlibrary.org/library-events/teen-dungeons-dragons-one
 -shot-adventure-0524261400
URL:https://basinbuzz.com/events/teen-dungeons-dragons-one-shot-adventure-2
 026-05-24
END:VEVENT
END:VCALENDAR
