BEGIN:VCALENDAR
VERSION:2.0
PRODID:-//Basin Buzz//Events//EN
CALSCALE:GREGORIAN
METHOD:PUBLISH
BEGIN:VEVENT
UID:teen-writing-workshop-2026-05-08@basinbuzz.com
SUMMARY:Teen Writing Workshop
DTSTART:20260508T153000
DTEND:20260508T153000
LOCATION:Klamath County Library\, 126 South Third Street\, Klamath Falls\, 
 OR 97601
DESCRIPTION:View on Basin Buzz: https://basinbuzz.com/events/teen-writing-w
 orkshop-2026-05-08\n\nA bi-weekly writing workshop for teens ages 12–18. S
 hare your work—whether fan fiction\, poetry\, song lyrics\, or original pi
 eces—and get creative feedback from peers. Prompts and writing exercises p
 rovided to spark inspiration.\nNo registration necessary. Meets every othe
 r Friday at 3:30 PM. For more information\, call (541) 882-8894.\n\nMore i
 nfo: https://klamathlibrary.org/library-events-calendar
URL:https://basinbuzz.com/events/teen-writing-workshop-2026-05-08
END:VEVENT
END:VCALENDAR
