BEGIN:VCALENDAR
VERSION:2.0
PRODID:-//Basin Buzz//Events//EN
CALSCALE:GREGORIAN
METHOD:PUBLISH
BEGIN:VEVENT
UID:teen-writing-workshop-2026-05-22@basinbuzz.com
SUMMARY:Teen Writing Workshop
DTSTART:20260522T153000
DTEND:20260522T153000
LOCATION:Klamath County Library\, 126 South Third Street\, Klamath Falls\, 
 OR 97601
DESCRIPTION:View on Basin Buzz: https://basinbuzz.com/events/teen-writing-w
 orkshop-2026-05-22\n\nA creative writing workshop for teens ages 12–18. Sh
 are your work—whether fan fiction\, poetry\, song lyrics\, or original pro
 se—with peers who love writing. Facilitators provide writing prompts to sp
 ark creativity and support an ongoing community of young writers.\nMeets e
 very other Friday at 3:30 PM. No registration necessary. For more informat
 ion\, call (541) 882-8894.\n\nMore info: https://klamathlibrary.org/librar
 y-events/teen-writing-workshop-0522261530
URL:https://basinbuzz.com/events/teen-writing-workshop-2026-05-22
END:VEVENT
END:VCALENDAR
