BEGIN:VCALENDAR
VERSION:2.0
PRODID:-//Basin Buzz//Events//EN
CALSCALE:GREGORIAN
METHOD:PUBLISH
BEGIN:VEVENT
UID:the-aging-journey-advanced-directives-2026-05-21@basinbuzz.com
SUMMARY:The Aging Journey: Advanced Directives
DTSTART:20260521T100000
DTEND:20260521T100000
LOCATION:Klamath County Library\, 126 South Third Street\, Klamath Falls\, 
 OR 97601
DESCRIPTION:View on Basin Buzz: https://basinbuzz.com/events/the-aging-jour
 ney-advanced-directives-2026-05-21\n\nJoin the Aging Journey seminar serie
 s presented by Klamath Basin Behavioral Health (KBBH). This session focuse
 s on Advanced Directives — learn how to communicate your healthcare prefer
 ences in advance so your family knows how you want to be treated in a hosp
 ital emergency.\nBehavioral Health Specialists Patricia "Patty" Card and K
 elli Bowers\, both specialists in the mental health needs of older adults\
 , will guide you through planning for medical emergencies and preparing fo
 r life's challenges. Each presentation in the series stands alone\, so you
  can attend the topics that interest you.\nThis is part of an ongoing Thur
 sday 10 AM series at the downtown library. Other May sessions cover Physic
 al Needs As We Age (May 7)\, How Food Impacts Our Lives (May 14)\, and The
  Bad and the Ugly of AI (May 28).\nAudience: Adults\n\nMore info: https://
 klamathlibrary.org/library-events-calendar
URL:https://basinbuzz.com/events/the-aging-journey-advanced-directives-2026
 -05-21
END:VEVENT
END:VCALENDAR
