BEGIN:VCALENDAR
VERSION:2.0
PRODID:-//Basin Buzz//Events//EN
CALSCALE:GREGORIAN
METHOD:PUBLISH
BEGIN:VEVENT
UID:the-aging-journey-how-food-impacts-our-lives-2026-05-14@basinbuzz.com
SUMMARY:The Aging Journey: How Food Impacts Our Lives
DTSTART:20260514T100000
DTEND:20260514T100000
LOCATION:Klamath County Library\, 126 South Third Street\, Klamath Falls\, 
 OR 97601
DESCRIPTION:View on Basin Buzz: https://basinbuzz.com/events/the-aging-jour
 ney-how-food-impacts-our-lives-2026-05-14\n\nPart of The Aging Journey sem
 inar series presented by Klamath Basin Behavioral Health (KBBH). This sess
 ion explores how food impacts our lives—not just as nutrition\, but as a s
 ource of cultural and social connection.\nEach presentation in the series 
 can be attended as a stand-alone. Other topics in the series include Physi
 cal Needs As We Age (May 7)\, Advanced Directives (May 21)\, and The Bad a
 nd the Ugly of AI (May 28).\nPresented by KBBH Behavioral Health Specialis
 ts Patricia "Patty" Card and Kelli Bowers\, who specialize in the mental h
 ealth needs of older adults. Card has worked at KBBH for more than 35 year
 s\; Bowers has worked in human services and social work since 1984 in Utah
  and Oregon.\nAudience: Adults. For more information\, call 541-882-8894.\
 n\nMore info: https://klamathlibrary.org/library-events/aging-journey-how-
 food-impacts-our-lives-0514261000
URL:https://basinbuzz.com/events/the-aging-journey-how-food-impacts-our-liv
 es-2026-05-14
END:VEVENT
END:VCALENDAR
