BEGIN:VCALENDAR
VERSION:2.0
PRODID:-//Basin Buzz//Events//EN
CALSCALE:GREGORIAN
METHOD:PUBLISH
BEGIN:VEVENT
UID:the-aging-journey-physical-needs-as-we-age-2026-05-07@basinbuzz.com
SUMMARY:The Aging Journey: Physical Needs As We Age
DTSTART:20260507T100000
DTEND:20260507T100000
LOCATION:Klamath County Library\, 126 South Third Street\, Klamath Falls\, 
 OR 97601
DESCRIPTION:View on Basin Buzz: https://basinbuzz.com/events/the-aging-jour
 ney-physical-needs-as-we-age-2026-05-07\n\nThe Aging Journey seminar serie
 s continues with a presentation from Klamath Basin Behavioral Health (KBBH
 ) staff on physical needs as we age. Learn about handrails\, mobility aids
 \, and other equipment that help you stay independent as you get older.\nT
 his is part of an ongoing Thursday morning series at the downtown Klamath 
 County Library. Each presentation can be attended as a stand-alone\; stop 
 by for topics that interest you.\nPresenters Patricia "Patty" Card and Kel
 li Bowers are behavioral health specialists with extensive experience in t
 he mental health needs of older adults. Card has worked at KBBH for more t
 han 35 years\; Bowers has worked in human services and social work since 1
 984 in Utah and Oregon.\nAudience: Adults. For more information\, call 541
 -882-8894.\n\nMore info: https://klamathlibrary.org/library-events/aging-j
 ourney-physical-needs-we-age-0507261000
URL:https://basinbuzz.com/events/the-aging-journey-physical-needs-as-we-age
 -2026-05-07
END:VEVENT
END:VCALENDAR
