BEGIN:VCALENDAR
VERSION:2.0
PRODID:-//Basin Buzz//Events//EN
CALSCALE:GREGORIAN
METHOD:PUBLISH
BEGIN:VEVENT
UID:the-aging-journey-the-bad-and-the-ugly-of-ai-2026-05-28@basinbuzz.com
SUMMARY:The Aging Journey: The Bad and the Ugly of AI
DTSTART:20260528T100000
DTEND:20260528T100000
LOCATION:Klamath County Library\, 126 South Third Street\, Klamath Falls\, 
 OR 97601
DESCRIPTION:View on Basin Buzz: https://basinbuzz.com/events/the-aging-jour
 ney-the-bad-and-the-ugly-of-ai-2026-05-28\n\nJoin Klamath Basin Behavioral
  Health (KBBH) staff for The Aging Journey seminar series\, a community ed
 ucation program on topics of interest to older adults. This session focuse
 s on artificial intelligence: how it can benefit us\, and how to protect y
 ourself and your family from AI-enabled scams.\nPresented by KBBH Behavior
 al Health Specialists Patricia "Patty" Card and Kelli Bowers\, both specia
 lists in mental health needs of older adults. Card has 35+ years at KBBH\;
  Bowers brings decades of human services and social work experience from U
 tah and Oregon.\nEach presentation in the series stands alone—attend the t
 opics that interest you. All Thursday mornings at 10 AM at the downtown li
 brary.\n\nMore info: https://klamathlibrary.org/library-events/aging-journ
 ey-bad-and-ugly-ai-0528261000
URL:https://basinbuzz.com/events/the-aging-journey-the-bad-and-the-ugly-of-
 ai-2026-05-28
END:VEVENT
END:VCALENDAR
