BEGIN:VCALENDAR
VERSION:2.0
PRODID:-//Basin Buzz//Events//EN
CALSCALE:GREGORIAN
METHOD:PUBLISH
BEGIN:VEVENT
UID:time-travel-crafts-with-the-sca-basic-t-tunic-2026-05-28@basinbuzz.com
SUMMARY:Time Travel Crafts with the SCA: Basic T-Tunic
DTSTART:20260528T173000
DTEND:20260528T173000
LOCATION:Klamath County Library\, 126 South Third Street\, Klamath Falls\, 
 OR 97601
DESCRIPTION:View on Basin Buzz: https://basinbuzz.com/events/time-travel-cr
 afts-with-the-sca-basic-t-tunic-2026-05-28\n\nJoin the local chapter of th
 e Society for Creative Anachronism (SCA) for a hands-on crafting workshop.
  Learn to make the classic "T-Tunic\," the foundation of a wide variety of
  historical costumes. This workshop welcomes teen and adult history enthus
 iasts.\nPre-registration is appreciated to help organizers estimate materi
 als. Participants are encouraged to bring a T-shirt for easier shoulder me
 asuring during the garment-making process.\nFor more information\, call (5
 41) 882-8894.\n\nMore info: https://klamathlibrary.org/library-events/time
 -travel-crafts-sca-basic-t-tunic-0528261730
URL:https://basinbuzz.com/events/time-travel-crafts-with-the-sca-basic-t-tu
 nic-2026-05-28
END:VEVENT
END:VCALENDAR
