BEGIN:VCALENDAR
VERSION:2.0
PRODID:-//Basin Buzz//Events//EN
CALSCALE:GREGORIAN
METHOD:PUBLISH
BEGIN:VEVENT
UID:youth-makers-guild-2026-05-06@basinbuzz.com
SUMMARY:Youth Makers Guild
DTSTART:20260506T163000
DTEND:20260506T163000
LOCATION:Klamath County Library\, 126 South Third Street\, Klamath Falls\, 
 OR 97601
DESCRIPTION:View on Basin Buzz: https://basinbuzz.com/events/youth-makers-g
 uild-2026-05-06\n\nJoin us for a fun project designed for ages 10–19. Come
  create and explore hands-on making activities with peers in a supportive 
 environment.\n\nMore info: https://klamathlibrary.org/library-events/youth
 -makers-guild-0506261630
URL:https://basinbuzz.com/events/youth-makers-guild-2026-05-06
END:VEVENT
END:VCALENDAR
